BEGIN:VCALENDAR
VERSION:2.0
PRODID:-//eventon.com NONSGML v1.0//EN
CALSCALE:GREGORIAN
METHOD:PUBLISH
BEGIN:VEVENT
UID:69e6f726a108a
DTSTAMP:20260421T040350Z
DTSTART:20231113
DTEND:20231114
LOCATION:
SUMMARY:Drawing Contest Entires Due
DESCRIPTION:\nhttps://www.ccld.org/events/drawing-contest-entires-due/
URL:https://www.ccld.org/events/drawing-contest-entires-due/
END:VEVENT
END:VCALENDAR