BEGIN:VCALENDAR
VERSION:2.0
PRODID:-//eventon.com NONSGML v1.0//EN
CALSCALE:GREGORIAN
METHOD:PUBLISH
BEGIN:VEVENT
UID:69e5b3c9e0930
DTSTAMP:20260420T050409Z
DTSTART:20240325T090000Z
DTEND:20240325T170000Z
LOCATION:
SUMMARY:Spring Break Open 9am-5pm
DESCRIPTION:\nhttps://www.ccld.org/events/spring-break-hours/
URL:https://www.ccld.org/events/spring-break-hours/
END:VEVENT
END:VCALENDAR